View In:
ArcGIS JavaScript
ArcGIS Online Map Viewer
ArcGIS Earth
Service Description: slope
Name: slope
Description:
Single Fused Map Cache: false
Extent:
XMin: 8727819.616281431
YMin: 626177.8604394458
XMax: 1.2474150430283673E7
YMax: 4367425.012579833
Spatial Reference: 102100
(3857)
LatestVCSWkid(0)
Initial Extent:
XMin: 8727819.616281431
YMin: 626177.8604394458
XMax: 1.2474150430283673E7
YMax: 4367425.012579833
Spatial Reference: 102100
(3857)
LatestVCSWkid(0)
Full Extent:
XMin: 8727819.616281431
YMin: 626177.8604394458
XMax: 1.2474150430283673E7
YMax: 4367425.012579833
Spatial Reference: 102100
(3857)
LatestVCSWkid(0)
Pixel Size X: 163.98909231789196
Pixel Size Y: 163.98909231789196
Band Count: 1
Pixel Type: S8
RasterFunction Infos: {"rasterFunctionInfos": [{
"name": "None",
"description": "",
"help": ""
}]}
Mensuration Capabilities: Basic
Inspection Capabilities:
Has Histograms: true
Has Colormap: false
Has Multi Dimensions : false
Rendering Rule:
Min Scale: 0
Max Scale: 0
Copyright Text:
Service Data Type: esriImageServiceDataTypeGeneric
Min Values: 0
Max Values: 81
Mean Values: 10.002387033100776
Standard Deviation Values: 10.408288939294097
Object ID Field:
Fields:
None
Default Mosaic Method: Center
Allowed Mosaic Methods:
SortField:
SortValue: null
Mosaic Operator: First
Default Compression Quality: 75
Default Resampling Method: Bilinear
Max Record Count: null
Max Image Height: 4100
Max Image Width: 15000
Max Download Image Count: null
Max Mosaic Image Count: null
Allow Raster Function: true
Allow Copy: true
Allow Analysis: true
Allow Compute TiePoints: false
Supports Statistics: false
Supports Advanced Queries: false
Use StandardizedQueries: true
Raster Type Infos:
Name: Raster Dataset
Description: Supports all ArcGIS Raster Datasets
Help:
Has Raster Attribute Table: true
Edit Fields Info: null
Ownership Based AccessControl For Rasters: null
Child Resources:
Info
Raster Attribute Table
Histograms
Statistics
Key Properties
Legend
Raster Function Infos
Supported Operations:
Export Image
Identify
Measure
Compute Histograms
Compute Statistics Histograms
Get Samples
Compute Class Statistics
Query Boundary
Compute Pixel Location
Compute Angles
Validate
Project