View In:
ArcGIS JavaScript
ArcGIS Online Map Viewer
ArcGIS Earth
Service Description: soil_kgdm3
Name: soil_kgdm3
Description:
Single Fused Map Cache: false
Extent:
XMin: 8727699.016487436
YMin: 626030.6890126904
XMax: 1.2474212138880447E7
YMax: 4367534.434320003
Spatial Reference: 102100
(3857)
LatestVCSWkid(0)
Initial Extent:
XMin: 8727699.016487436
YMin: 626030.6890126904
XMax: 1.2474212138880447E7
YMax: 4367534.434320003
Spatial Reference: 102100
(3857)
LatestVCSWkid(0)
Full Extent:
XMin: 8727699.016487436
YMin: 626030.6890126904
XMax: 1.2474212138880447E7
YMax: 4367534.434320003
Spatial Reference: 102100
(3857)
LatestVCSWkid(0)
Pixel Size X: 250.46885428486496
Pixel Size Y: 250.46885428486493
Band Count: 1
Pixel Type: F32
RasterFunction Infos: {"rasterFunctionInfos": [{
"name": "None",
"description": "",
"help": ""
}]}
Mensuration Capabilities: Basic
Inspection Capabilities:
Has Histograms: true
Has Colormap: false
Has Multi Dimensions : false
Rendering Rule:
Min Scale: 0
Max Scale: 0
Copyright Text:
Service Data Type: esriImageServiceDataTypeGeneric
Min Values: -13.617304801940918
Max Values: 67.02147674560547
Mean Values: 27.04269637159369
Standard Deviation Values: 8.428052406029215
Object ID Field:
Fields:
None
Default Mosaic Method: Center
Allowed Mosaic Methods:
SortField:
SortValue: null
Mosaic Operator: First
Default Compression Quality: 75
Default Resampling Method: Bilinear
Max Record Count: null
Max Image Height: 4100
Max Image Width: 15000
Max Download Image Count: null
Max Mosaic Image Count: null
Allow Raster Function: true
Allow Copy: true
Allow Analysis: true
Allow Compute TiePoints: false
Supports Statistics: false
Supports Advanced Queries: false
Use StandardizedQueries: true
Raster Type Infos:
Name: Raster Dataset
Description: Supports all ArcGIS Raster Datasets
Help:
Has Raster Attribute Table: false
Edit Fields Info: null
Ownership Based AccessControl For Rasters: null
Child Resources:
Info
Histograms
Statistics
Key Properties
Legend
Raster Function Infos
Supported Operations:
Export Image
Identify
Measure
Compute Histograms
Compute Statistics Histograms
Get Samples
Compute Class Statistics
Query Boundary
Compute Pixel Location
Compute Angles
Validate
Project